BEGIN:VCALENDAR
VERSION:2.0
PRODID:-//Oxford Guild of Weavers, Spinners and Dyers - ECPv6.15.20//NONSGML v1.0//EN
CALSCALE:GREGORIAN
METHOD:PUBLISH
X-ORIGINAL-URL:https://oxfordwsd.org.uk
X-WR-CALDESC:Events for Oxford Guild of Weavers, Spinners and Dyers
REFRESH-INTERVAL;VALUE=DURATION:PT1H
X-Robots-Tag:noindex
X-PUBLISHED-TTL:PT1H
BEGIN:VTIMEZONE
TZID:Europe/London
BEGIN:DAYLIGHT
TZOFFSETFROM:+0000
TZOFFSETTO:+0100
TZNAME:BST
DTSTART:20160327T010000
END:DAYLIGHT
BEGIN:STANDARD
TZOFFSETFROM:+0100
TZOFFSETTO:+0000
TZNAME:GMT
DTSTART:20161030T010000
END:STANDARD
BEGIN:DAYLIGHT
TZOFFSETFROM:+0000
TZOFFSETTO:+0100
TZNAME:BST
DTSTART:20170326T010000
END:DAYLIGHT
BEGIN:STANDARD
TZOFFSETFROM:+0100
TZOFFSETTO:+0000
TZNAME:GMT
DTSTART:20171029T010000
END:STANDARD
BEGIN:DAYLIGHT
TZOFFSETFROM:+0000
TZOFFSETTO:+0100
TZNAME:BST
DTSTART:20180325T010000
END:DAYLIGHT
BEGIN:STANDARD
TZOFFSETFROM:+0100
TZOFFSETTO:+0000
TZNAME:GMT
DTSTART:20181028T010000
END:STANDARD
END:VTIMEZONE
BEGIN:VEVENT
DTSTART;TZID=Europe/London:20170218T100000
DTEND;TZID=Europe/London:20170218T160000
DTSTAMP:20260420T101737
CREATED:20161016T140411Z
LAST-MODIFIED:20170108T130623Z
UID:302-1487412000-1487433600@oxfordwsd.org.uk
SUMMARY:February Meeting 2017
DESCRIPTION:Talk by Jill Shepherd followed by a workshop with Jill on the Sunday. \nJill’s talk is entitled ‘Cycles in Handcraft’ and is a brief look at domestic handcraft from the practice of hand spinners\, weavers and knitters in the 18th century through to the skills we use today.
URL:https://oxfordwsd.org.uk/event/february-meeting-2017/
LOCATION:Stanton St John Village hall\, Stanton St John Village Hall\, Middle Road\, Stanton St John\, Oxford\, Oxfordshire\, OX33 1HD\, United Kingdom
CATEGORIES:OGWSD Programme
END:VEVENT
BEGIN:VEVENT
DTSTART;TZID=Europe/London:20170219T100000
DTEND;TZID=Europe/London:20170219T160000
DTSTAMP:20260420T101737
CREATED:20161016T140648Z
LAST-MODIFIED:20170108T130719Z
UID:304-1487498400-1487520000@oxfordwsd.org.uk
SUMMARY:February Meeting Extra 2017
DESCRIPTION:Workshop with Jill Shepherd – ‘Spinning for a Purpose’.  This is a directed workshop to enable you to spin for specific projects.
URL:https://oxfordwsd.org.uk/event/february-meeting-extra-2017/
LOCATION:Stanton St John Village hall\, Stanton St John Village Hall\, Middle Road\, Stanton St John\, Oxford\, Oxfordshire\, OX33 1HD\, United Kingdom
CATEGORIES:OGWSD Programme
END:VEVENT
END:VCALENDAR