BEGIN:VCALENDAR
VERSION:2.0
PRODID:-//Oxford Guild of Weavers, Spinners and Dyers - ECPv6.15.20//NONSGML v1.0//EN
CALSCALE:GREGORIAN
METHOD:PUBLISH
X-WR-CALNAME:Oxford Guild of Weavers, Spinners and Dyers
X-ORIGINAL-URL:https://oxfordwsd.org.uk
X-WR-CALDESC:Events for Oxford Guild of Weavers, Spinners and Dyers
REFRESH-INTERVAL;VALUE=DURATION:PT1H
X-Robots-Tag:noindex
X-PUBLISHED-TTL:PT1H
BEGIN:VTIMEZONE
TZID:Europe/London
BEGIN:DAYLIGHT
TZOFFSETFROM:+0000
TZOFFSETTO:+0100
TZNAME:BST
DTSTART:20240331T010000
END:DAYLIGHT
BEGIN:STANDARD
TZOFFSETFROM:+0100
TZOFFSETTO:+0000
TZNAME:GMT
DTSTART:20241027T010000
END:STANDARD
BEGIN:DAYLIGHT
TZOFFSETFROM:+0000
TZOFFSETTO:+0100
TZNAME:BST
DTSTART:20250330T010000
END:DAYLIGHT
BEGIN:STANDARD
TZOFFSETFROM:+0100
TZOFFSETTO:+0000
TZNAME:GMT
DTSTART:20251026T010000
END:STANDARD
BEGIN:DAYLIGHT
TZOFFSETFROM:+0000
TZOFFSETTO:+0100
TZNAME:BST
DTSTART:20260329T010000
END:DAYLIGHT
BEGIN:STANDARD
TZOFFSETFROM:+0100
TZOFFSETTO:+0000
TZNAME:GMT
DTSTART:20261025T010000
END:STANDARD
END:VTIMEZONE
BEGIN:VEVENT
DTSTART;TZID=Europe/London:20250517T100000
DTEND;TZID=Europe/London:20250517T160000
DTSTAMP:20260424T210446
CREATED:20241203T210416Z
LAST-MODIFIED:20241203T210416Z
UID:1193-1747476000-1747497600@oxfordwsd.org.uk
SUMMARY:May Meeting 2025
DESCRIPTION:Talk: Krokbragd with Angie Parker \nKrokbragd is a Norwegian weaving technique that Angie specializes in.\nAngie is a weaver\, designer and colourist based in Bristol. After being taught rug weaving at art college in the 1990’s\, she pursued a career in costume for a number of years whilst continuing to weave on small scale collections. During this time she developed the original style for which she has become known since setting up her business. \nWith a stack of handwoven krokbragd samples and slides Angie will talk you through the processes of her weaving and design and she will explain the technical intricacies of the technique she has been addicted to for over thirty years. \nShe will be talking about the ups and downs of setting up in business around a young family in a challenging marketplace. She’ll also cover pushing out of your comfort zone and colour confidence\, though uplifting colourful woven textiles. There will be a slide show and samples of Angie’s trademark woven textiles on display\, plus a Q&A session at the end.
URL:https://oxfordwsd.org.uk/event/may-meeting-2025/
LOCATION:Beckley Village Hall\, Beckley Village Hall\, Woodperry Road\, Beckley\, Oxford\, Oxfordshire\, OX3 9UZ\, United Kingdom
CATEGORIES:OGWSD Programme
END:VEVENT
END:VCALENDAR