BEGIN:VCALENDAR
VERSION:2.0
PRODID:-//Oxford Guild of Weavers, Spinners and Dyers - ECPv6.15.20//NONSGML v1.0//EN
CALSCALE:GREGORIAN
METHOD:PUBLISH
X-ORIGINAL-URL:https://oxfordwsd.org.uk
X-WR-CALDESC:Events for Oxford Guild of Weavers, Spinners and Dyers
REFRESH-INTERVAL;VALUE=DURATION:PT1H
X-Robots-Tag:noindex
X-PUBLISHED-TTL:PT1H
BEGIN:VTIMEZONE
TZID:Europe/London
BEGIN:DAYLIGHT
TZOFFSETFROM:+0000
TZOFFSETTO:+0100
TZNAME:BST
DTSTART:20230326T010000
END:DAYLIGHT
BEGIN:STANDARD
TZOFFSETFROM:+0100
TZOFFSETTO:+0000
TZNAME:GMT
DTSTART:20231029T010000
END:STANDARD
BEGIN:DAYLIGHT
TZOFFSETFROM:+0000
TZOFFSETTO:+0100
TZNAME:BST
DTSTART:20240331T010000
END:DAYLIGHT
BEGIN:STANDARD
TZOFFSETFROM:+0100
TZOFFSETTO:+0000
TZNAME:GMT
DTSTART:20241027T010000
END:STANDARD
BEGIN:DAYLIGHT
TZOFFSETFROM:+0000
TZOFFSETTO:+0100
TZNAME:BST
DTSTART:20250330T010000
END:DAYLIGHT
BEGIN:STANDARD
TZOFFSETFROM:+0100
TZOFFSETTO:+0000
TZNAME:GMT
DTSTART:20251026T010000
END:STANDARD
END:VTIMEZONE
BEGIN:VEVENT
DTSTART;TZID=Europe/London:20241221T100000
DTEND;TZID=Europe/London:20241221T160000
DTSTAMP:20260425T051032
CREATED:20240110T175645Z
LAST-MODIFIED:20241203T203945Z
UID:1128-1734775200-1734796800@oxfordwsd.org.uk
SUMMARY:December Meeting 2024
DESCRIPTION:Christmas Lunch and Chair’s Challenge \nThe theme for the Chair’s Challenge this year is Trash to Treasure – bring in your makes to show\, in whatever state of completeness\, and share your process.  This is not a competition!  Full information at Chair’s Challenge 2024. \nIt’s also our shared Christmas Lunch meeting – bring your party hats!
URL:https://oxfordwsd.org.uk/event/december-meeting-2024/
LOCATION:Beckley Village Hall\, Beckley Village Hall\, Woodperry Road\, Beckley\, Oxford\, Oxfordshire\, OX3 9UZ\, United Kingdom
CATEGORIES:OGWSD Programme
END:VEVENT
END:VCALENDAR